BEGIN:VCALENDAR
VERSION:2.0
PRODID:-//Colegio Oficial de Ingenieros Agrónomos de Albacete - ECPv5.8.1//NONSGML v1.0//EN
CALSCALE:GREGORIAN
METHOD:PUBLISH
X-WR-CALNAME:Colegio Oficial de Ingenieros Agrónomos de Albacete
X-ORIGINAL-URL:https://www.agronomosalbacete.org
X-WR-CALDESC:Events for Colegio Oficial de Ingenieros Agrónomos de Albacete
BEGIN:VTIMEZONE
TZID:UTC
BEGIN:STANDARD
TZOFFSETFROM:+0000
TZOFFSETTO:+0000
TZNAME:UTC
DTSTART:20250101T000000
END:STANDARD
END:VTIMEZONE
BEGIN:VEVENT
DTSTART;TZID=UTC:20250110T080000
DTEND;TZID=UTC:20251210T170000
DTSTAMP:20260422T171822
CREATED:20250110T160844Z
LAST-MODIFIED:20250110T160848Z
UID:35850-1736496000-1765386000@www.agronomosalbacete.org
SUMMARY:2ª Edición del programa de preparación de las oposiciones al Cuerpo de Ingenieros Agrónomos del Estado_COIAL
DESCRIPTION:  \nMás info.
URL:https://www.agronomosalbacete.org/event/2a-edicion-del-programa-de-preparacion-de-las-oposiciones-al-cuerpo-de-ingenieros-agronomos-del-estado_coial/
CATEGORIES:OTROS
ATTACH;FMTTYPE=image/jpeg:https://www.agronomosalbacete.org/wp-content/uploads/2025/01/2.jpg
END:VEVENT
BEGIN:VEVENT
DTSTART;TZID=UTC:20251117T080000
DTEND;TZID=UTC:20260115T170000
DTSTAMP:20260422T171822
CREATED:20251021T145413Z
LAST-MODIFIED:20251021T145417Z
UID:38983-1763366400-1768496400@www.agronomosalbacete.org
SUMMARY:Protección contra incendios en industria alimentaria INCENDIOS - ATEX.
DESCRIPTION:  17 noviembre 2025 a 15 enero de 2026 \n  Libre \n Online \nLeer+ \n\n1.       MÓDULOS INSTALACIONES EN INDUSTRIA AGROALIMENTARIA \n1.1.   Módulo 1 | INCENDIOS_ ATEX | Protección contra incendios en industria alimentaria \n1.2.    Módulo 3 | ELECTRICIDAD | Instalaciones eléctricas de media y baja tensión \n1.3.    Módulo 4 | FRÍO/CALOR \n1.4.    Módulo 5 | SUMINISTRO/SANEAMIENTO \n2.       MÓDULOS PROCESOS INDUSTRIALES \n2.1.    INDISTRIAS CÁRNICAS \n2.2.    FABRICAS DE PIENSOS \n2.3.    BODEGAS \n2.4.    INDUSTRIA DE CONSERVAS Y CONGELADOS \n3.       DISEÑO INDISTRIAL DE NUEVOS PROCESOS INNOVADORES EN INDUSTRIA AGROALIMENTARIA
URL:https://www.agronomosalbacete.org/event/proteccion-contra-incendios-en-industria-alimentaria-incendios-atex/
CATEGORIES:OTROS
ATTACH;FMTTYPE=image/jpeg:https://www.agronomosalbacete.org/wp-content/uploads/2025/10/BANNER_CENTAL_CURSO_INCENDIOS.jpg
END:VEVENT
END:VCALENDAR