BEGIN:VCALENDAR
VERSION:2.0
PRODID:-//Colegio Oficial de Ingenieros Agrónomos de Albacete - ECPv5.8.1//NONSGML v1.0//EN
CALSCALE:GREGORIAN
METHOD:PUBLISH
X-WR-CALNAME:Colegio Oficial de Ingenieros Agrónomos de Albacete
X-ORIGINAL-URL:https://www.agronomosalbacete.org
X-WR-CALDESC:Events for Colegio Oficial de Ingenieros Agrónomos de Albacete
BEGIN:VTIMEZONE
TZID:UTC
BEGIN:STANDARD
TZOFFSETFROM:+0000
TZOFFSETTO:+0000
TZNAME:UTC
DTSTART:20250101T000000
END:STANDARD
END:VTIMEZONE
BEGIN:VEVENT
DTSTART;TZID=UTC:20250110T080000
DTEND;TZID=UTC:20251210T170000
DTSTAMP:20260423T005418
CREATED:20250110T160844Z
LAST-MODIFIED:20250110T160848Z
UID:35850-1736496000-1765386000@www.agronomosalbacete.org
SUMMARY:2ª Edición del programa de preparación de las oposiciones al Cuerpo de Ingenieros Agrónomos del Estado_COIAL
DESCRIPTION:  \nMás info.
URL:https://www.agronomosalbacete.org/event/2a-edicion-del-programa-de-preparacion-de-las-oposiciones-al-cuerpo-de-ingenieros-agronomos-del-estado_coial/
CATEGORIES:OTROS
ATTACH;FMTTYPE=image/jpeg:https://www.agronomosalbacete.org/wp-content/uploads/2025/01/2.jpg
END:VEVENT
BEGIN:VEVENT
DTSTART;TZID=UTC:20250526T080000
DTEND;TZID=UTC:20250611T170000
DTSTAMP:20260423T005418
CREATED:20250425T064014Z
LAST-MODIFIED:20250425T064020Z
UID:37222-1748246400-1749661200@www.agronomosalbacete.org
SUMMARY:4ª Edición del Programa de Formación de Formadores en Buenas Prácticas Agrarias en la Agricultura de Regadío (PRTR)
DESCRIPTION:📆 26 de mayo al 11 de junio de 2025🕔 9:00-15:00 H (63 horas lectivas) 📌 Online y 3 jornadas prácticas presenciales \nINSCRIPCIÓN \nMás info.
URL:https://www.agronomosalbacete.org/event/4a-edicion-del-programa-de-formacion-de-formadores-en-buenas-practicas-agrarias-en-la-agricultura-de-regadio-prtr/
CATEGORIES:OTROS
ATTACH;FMTTYPE=image/jpeg:https://www.agronomosalbacete.org/wp-content/uploads/2025/04/BUENAS-PRACTICAS.jpg
END:VEVENT
BEGIN:VEVENT
DTSTART;TZID=UTC:20250602T080000
DTEND;TZID=UTC:20250603T170000
DTSTAMP:20260423T005418
CREATED:20250522T153208Z
LAST-MODIFIED:20250522T153212Z
UID:37778-1748851200-1748970000@www.agronomosalbacete.org
SUMMARY:Bioestimulantes en agronomía
DESCRIPTION:📆 2 y 3 de junio de 2025.🕔 6 h (Libre)📌 Formación Agrónomos  \n+Info
URL:https://www.agronomosalbacete.org/event/bioestimulantes-en-agronomia/
CATEGORIES:OTROS
ATTACH;FMTTYPE=image/jpeg:https://www.agronomosalbacete.org/wp-content/uploads/2025/05/BIOESTIMULANTES.jpg
END:VEVENT
END:VCALENDAR