BEGIN:VCALENDAR
VERSION:2.0
PRODID:-//Colegio Oficial de Ingenieros Agrónomos de Albacete - ECPv5.8.1//NONSGML v1.0//EN
CALSCALE:GREGORIAN
METHOD:PUBLISH
X-WR-CALNAME:Colegio Oficial de Ingenieros Agrónomos de Albacete
X-ORIGINAL-URL:https://www.agronomosalbacete.org
X-WR-CALDESC:Events for Colegio Oficial de Ingenieros Agrónomos de Albacete
BEGIN:VTIMEZONE
TZID:UTC
BEGIN:STANDARD
TZOFFSETFROM:+0000
TZOFFSETTO:+0000
TZNAME:UTC
DTSTART:20240101T000000
END:STANDARD
END:VTIMEZONE
BEGIN:VEVENT
DTSTART;TZID=UTC:20240906T080000
DTEND;TZID=UTC:20240926T170000
DTSTAMP:20260425T131027
CREATED:20240906T063924Z
LAST-MODIFIED:20240906T063928Z
UID:34595-1725609600-1727370000@www.agronomosalbacete.org
SUMMARY:Manejo de infraestructuras verdes y control biológico de plagas
DESCRIPTION:📆  12\,17\, 19\, 24\, 26 de septiembre de 2024🕔  16:30 a 19:00 h📌 Online. Gratuito \n  \n+ Info.
URL:https://www.agronomosalbacete.org/event/manejo-de-infraestructuras-verdes-y-control-biologico-de-plagas/
CATEGORIES:OTROS
END:VEVENT
END:VCALENDAR