BEGIN:VCALENDAR
VERSION:2.0
PRODID:-//Colegio Oficial de Ingenieros Agrónomos de Albacete - ECPv5.8.1//NONSGML v1.0//EN
CALSCALE:GREGORIAN
METHOD:PUBLISH
X-WR-CALNAME:Colegio Oficial de Ingenieros Agrónomos de Albacete
X-ORIGINAL-URL:https://www.agronomosalbacete.org
X-WR-CALDESC:Events for Colegio Oficial de Ingenieros Agrónomos de Albacete
BEGIN:VTIMEZONE
TZID:UTC
BEGIN:STANDARD
TZOFFSETFROM:+0000
TZOFFSETTO:+0000
TZNAME:UTC
DTSTART:20260101T000000
END:STANDARD
END:VTIMEZONE
BEGIN:VEVENT
DTSTART;TZID=UTC:20260101T080000
DTEND;TZID=UTC:20270101T170000
DTSTAMP:20260422T114611
CREATED:20251205T170640Z
LAST-MODIFIED:20251205T170754Z
UID:39581-1767254400-1798822800@www.agronomosalbacete.org
SUMMARY:Curso práctico on line para la redacción de informes\, dictámenes y periciales
DESCRIPTION:📆 Abierto \n🕔 100 horas (3 meses) \n📌Online a tu ritmo  \nLeer+
URL:https://www.agronomosalbacete.org/event/curso-practico-on-line-para-la-redaccion-de-informes-dictamenes-y-periciales/
CATEGORIES:OTROS
ATTACH;FMTTYPE=image/png:https://www.agronomosalbacete.org/wp-content/uploads/2025/12/informes-.png
END:VEVENT
BEGIN:VEVENT
DTSTART;TZID=UTC:20260113T080000
DTEND;TZID=UTC:20260305T170000
DTSTAMP:20260422T114612
CREATED:20251128T185109Z
LAST-MODIFIED:20251128T185113Z
UID:39436-1768291200-1772730000@www.agronomosalbacete.org
SUMMARY:5ª ed. 1ª internacional del Programa experto profesional en bioestimulantes y biocontrol
DESCRIPTION:MATRÍCULA ABIERTA HASTA EL 13 DE ENERO DE 2026. No te quedes sin plaza \n📆 Del 13 de enero de 2026 y el 5 de marzo de 2027 \n🕔 296 horas \n📌Online en directo y grabadas \nLeer+
URL:https://www.agronomosalbacete.org/event/5a-ed-1a-internacional-del-programa-experto-profesional-en-bioestimulantes-y-biocontrol/
CATEGORIES:OTROS
ATTACH;FMTTYPE=image/png:https://www.agronomosalbacete.org/wp-content/uploads/2025/11/AGRONUTRIENTES_2025_v2.png
END:VEVENT
BEGIN:VEVENT
DTSTART;TZID=UTC:20260210T080000
DTEND;TZID=UTC:20260214T170000
DTSTAMP:20260422T114612
CREATED:20260116T153054Z
LAST-MODIFIED:20260116T153059Z
UID:39822-1770710400-1771088400@www.agronomosalbacete.org
SUMMARY:44ª Feria Internacional de Maquinaria Agrícola (FIMA)
DESCRIPTION:  \n📆 10 -14 febrero 2026\n📌Feria de Zaragoza (Autovia A – 2 km 311\, 50012 Zaragoza)\n[Leer+]
URL:https://www.agronomosalbacete.org/event/44a-feria-internacional-de-maquinaria-agricola-fima/
CATEGORIES:OTROS
ATTACH;FMTTYPE=image/png:https://www.agronomosalbacete.org/wp-content/uploads/2026/01/fima.png
END:VEVENT
BEGIN:VEVENT
DTSTART;TZID=UTC:20260223T080000
DTEND;TZID=UTC:20260226T170000
DTSTAMP:20260422T114612
CREATED:20260211T180117Z
LAST-MODIFIED:20260211T180122Z
UID:40000-1771833600-1772125200@www.agronomosalbacete.org
SUMMARY:Gemelos digitales en agricultura: fundamentos estructurales y aplicaciones con LiDAR
DESCRIPTION:📆 Del 23 al 26 de febrero\n🕔 Tardes  (21 horas)\n📌Online y presencial \nLeer+
URL:https://www.agronomosalbacete.org/event/gemelos-digitales-en-agricultura-fundamentos-estructurales-y-aplicaciones-con-lidar/
CATEGORIES:OTROS
ATTACH;FMTTYPE=image/jpeg:https://www.agronomosalbacete.org/wp-content/uploads/2026/02/gemelos.jpg
END:VEVENT
END:VCALENDAR