BEGIN:VCALENDAR
VERSION:2.0
PRODID:-//Colegio Oficial de Ingenieros Agrónomos de Albacete - ECPv5.8.1//NONSGML v1.0//EN
CALSCALE:GREGORIAN
METHOD:PUBLISH
X-WR-CALNAME:Colegio Oficial de Ingenieros Agrónomos de Albacete
X-ORIGINAL-URL:https://www.agronomosalbacete.org
X-WR-CALDESC:Events for Colegio Oficial de Ingenieros Agrónomos de Albacete
BEGIN:VTIMEZONE
TZID:UTC
BEGIN:STANDARD
TZOFFSETFROM:+0000
TZOFFSETTO:+0000
TZNAME:UTC
DTSTART:20260101T000000
END:STANDARD
END:VTIMEZONE
BEGIN:VEVENT
DTSTART;TZID=UTC:20260210T080000
DTEND;TZID=UTC:20260312T170000
DTSTAMP:20260420T232925
CREATED:20260116T153258Z
LAST-MODIFIED:20260116T153433Z
UID:39831-1770710400-1773334800@www.agronomosalbacete.org
SUMMARY:X Foro Nacional de Desarrollo Rural
DESCRIPTION:“El Desarrollo Rural en el Nuevo Contexto Internacional” \n\n📆  Del 10 al 12 de febrero de 2026\n📌  FIMA-Zaragoza\nLeer+
URL:https://www.agronomosalbacete.org/event/x-foro-nacional-de-desarrollo-rural/
CATEGORIES:CONGRESOS
ATTACH;FMTTYPE=image/png:https://www.agronomosalbacete.org/wp-content/uploads/2026/01/foo_DR_2026_950_x_630_px.png
END:VEVENT
END:VCALENDAR