BEGIN:VCALENDAR
VERSION:2.0
PRODID:-//Colegio Oficial de Ingenieros Agrónomos de Albacete - ECPv5.8.1//NONSGML v1.0//EN
CALSCALE:GREGORIAN
METHOD:PUBLISH
X-WR-CALNAME:Colegio Oficial de Ingenieros Agrónomos de Albacete
X-ORIGINAL-URL:https://www.agronomosalbacete.org
X-WR-CALDESC:Events for Colegio Oficial de Ingenieros Agrónomos de Albacete
BEGIN:VTIMEZONE
TZID:UTC
BEGIN:STANDARD
TZOFFSETFROM:+0000
TZOFFSETTO:+0000
TZNAME:UTC
DTSTART:20250101T000000
END:STANDARD
END:VTIMEZONE
BEGIN:VEVENT
DTSTART;TZID=UTC:20251126T080000
DTEND;TZID=UTC:20251127T170000
DTSTAMP:20260421T174050
CREATED:20251114T070655Z
LAST-MODIFIED:20251114T070659Z
UID:39318-1764144000-1764262800@www.agronomosalbacete.org
SUMMARY:V Congreso Nacional de Regadíos de Aguas subterráneas
DESCRIPTION:📆 26 y 27 de noviembre \nLeer+
URL:https://www.agronomosalbacete.org/event/v-congreso-nacional-de-regadios-de-aguas-subterraneas/
CATEGORIES:CONGRESOS
ATTACH;FMTTYPE=image/jpeg:https://www.agronomosalbacete.org/wp-content/uploads/2025/11/aguas-subter-jpg.jpg
END:VEVENT
END:VCALENDAR