BEGIN:VCALENDAR
VERSION:2.0
PRODID:-//Colegio Oficial de Ingenieros Agrónomos de Albacete - ECPv5.8.1//NONSGML v1.0//EN
CALSCALE:GREGORIAN
METHOD:PUBLISH
X-WR-CALNAME:Colegio Oficial de Ingenieros Agrónomos de Albacete
X-ORIGINAL-URL:https://www.agronomosalbacete.org
X-WR-CALDESC:Events for Colegio Oficial de Ingenieros Agrónomos de Albacete
BEGIN:VTIMEZONE
TZID:UTC
BEGIN:STANDARD
TZOFFSETFROM:+0000
TZOFFSETTO:+0000
TZNAME:UTC
DTSTART:20240101T000000
END:STANDARD
END:VTIMEZONE
BEGIN:VEVENT
DTSTART;TZID=UTC:20241202T080000
DTEND;TZID=UTC:20250525T170000
DTSTAMP:20260422T020040
CREATED:20240614T095024Z
LAST-MODIFIED:20240614T095029Z
UID:34193-1733126400-1748192400@www.agronomosalbacete.org
SUMMARY:Congreso Nacional del Medio Ambiente_Conama 2024
DESCRIPTION:📆  Del 2 al 5 de diciembre de 2024 \n📌 Centro de Convenciones Norte de IFEMA. (Madrid) \n+ Info \n 
URL:https://www.agronomosalbacete.org/event/congreso-nacional-del-medio-ambiente_conama-2024/
CATEGORIES:CONGRESOS
ATTACH;FMTTYPE=image/jpeg:https://www.agronomosalbacete.org/wp-content/uploads/2024/06/conama-temp.jpg
END:VEVENT
END:VCALENDAR