BEGIN:VCALENDAR
VERSION:2.0
PRODID:-//Colegio Oficial de Ingenieros Agrónomos de Albacete - ECPv5.8.1//NONSGML v1.0//EN
CALSCALE:GREGORIAN
METHOD:PUBLISH
X-WR-CALNAME:Colegio Oficial de Ingenieros Agrónomos de Albacete
X-ORIGINAL-URL:https://www.agronomosalbacete.org
X-WR-CALDESC:Eventos para Colegio Oficial de Ingenieros Agrónomos de Albacete
BEGIN:VTIMEZONE
TZID:UTC
BEGIN:STANDARD
TZOFFSETFROM:+0000
TZOFFSETTO:+0000
TZNAME:UTC
DTSTART:20250101T000000
END:STANDARD
END:VTIMEZONE
BEGIN:VEVENT
DTSTART;TZID=UTC:20251030T080000
DTEND;TZID=UTC:20251030T170000
DTSTAMP:20260422T190858
CREATED:20251025T144044Z
LAST-MODIFIED:20251025T144048Z
UID:39088-1761811200-1761843600@www.agronomosalbacete.org
SUMMARY:Webinar del MAPA: “Soluciones para la modernización de canales de riego” y convocatoria de artículos – Journal of Water Engineering and Management (JWEAM)
DESCRIPTION:📆 30 de octubre 2025🕔 14:30 IST (10:00 CET\, hora peninsular de España)📌 Zoom \nLEER+ \n 
URL:https://www.agronomosalbacete.org/event/webinar-del-mapa-soluciones-para-la-modernizacion-de-canales-de-riego-y-convocatoria-de-articulos-journal-of-water-engineering-and-management-jweam/
CATEGORIES:CURSOS
ATTACH;FMTTYPE=image/png:https://www.agronomosalbacete.org/wp-content/uploads/2025/10/riegos-y-drenajes.png
END:VEVENT
END:VCALENDAR