BEGIN:VCALENDAR
VERSION:2.0
PRODID:-//Colegio Oficial de Ingenieros Agrónomos de Albacete - ECPv5.8.1//NONSGML v1.0//EN
CALSCALE:GREGORIAN
METHOD:PUBLISH
X-WR-CALNAME:Colegio Oficial de Ingenieros Agrónomos de Albacete
X-ORIGINAL-URL:https://www.agronomosalbacete.org
X-WR-CALDESC:Eventos para Colegio Oficial de Ingenieros Agrónomos de Albacete
BEGIN:VTIMEZONE
TZID:UTC
BEGIN:STANDARD
TZOFFSETFROM:+0000
TZOFFSETTO:+0000
TZNAME:UTC
DTSTART:20260101T000000
END:STANDARD
END:VTIMEZONE
BEGIN:VEVENT
DTSTART;TZID=UTC:20260518T080000
DTEND;TZID=UTC:20260518T170000
DTSTAMP:20260425T115620
CREATED:20260424T102550Z
LAST-MODIFIED:20260424T102715Z
UID:40545-1779091200-1779123600@www.agronomosalbacete.org
SUMMARY:Teledetección aplicada al asesoramiento. Procesamiento de imágenes de satélite y extracción de información útil en agricultura
DESCRIPTION:📆 18 de mayo de 2026 \n🕔 4 horas \n📌Formación Agrónomos \nLeer+
URL:https://www.agronomosalbacete.org/event/teledeteccion-aplicada-al-asesoramiento-procesamiento-de-imagenes-de-satelite-y-extraccion-de-informacion-util-en-agricultura/
CATEGORIES:JORNADAS
ATTACH;FMTTYPE=image/jpeg:https://www.agronomosalbacete.org/wp-content/uploads/2026/04/teledeteccion.jpg
END:VEVENT
END:VCALENDAR