BEGIN:VCALENDAR
VERSION:2.0
PRODID:-//Colegio Oficial de Ingenieros Agrónomos de Albacete - ECPv5.8.1//NONSGML v1.0//EN
CALSCALE:GREGORIAN
METHOD:PUBLISH
X-WR-CALNAME:Colegio Oficial de Ingenieros Agrónomos de Albacete
X-ORIGINAL-URL:https://www.agronomosalbacete.org
X-WR-CALDESC:Eventos para Colegio Oficial de Ingenieros Agrónomos de Albacete
BEGIN:VTIMEZONE
TZID:UTC
BEGIN:STANDARD
TZOFFSETFROM:+0000
TZOFFSETTO:+0000
TZNAME:UTC
DTSTART:20250101T000000
END:STANDARD
END:VTIMEZONE
BEGIN:VEVENT
DTSTART;TZID=UTC:20251027T080000
DTEND;TZID=UTC:20251030T170000
DTSTAMP:20260422T190900
CREATED:20250612T174629Z
LAST-MODIFIED:20250612T174633Z
UID:38031-1761552000-1761843600@www.agronomosalbacete.org
SUMMARY:SEPOR - Feria Ganadera\, Industrial y Agroalimentaria
DESCRIPTION:📆 Del 27 al 30 de octubre📌Recinto IFELOR. Lorca (Murcia) \n  \nLeer+
URL:https://www.agronomosalbacete.org/event/sepor-feria-ganadera-industrial-y-agroalimentaria/
CATEGORIES:FERIAS
ATTACH;FMTTYPE=image/jpeg:https://www.agronomosalbacete.org/wp-content/uploads/2025/06/sepor.jpg
END:VEVENT
END:VCALENDAR