BEGIN:VCALENDAR
VERSION:2.0
PRODID:-//Colegio Oficial de Ingenieros Agrónomos de Albacete - ECPv5.8.1//NONSGML v1.0//EN
CALSCALE:GREGORIAN
METHOD:PUBLISH
X-WR-CALNAME:Colegio Oficial de Ingenieros Agrónomos de Albacete
X-ORIGINAL-URL:https://www.agronomosalbacete.org
X-WR-CALDESC:Eventos para Colegio Oficial de Ingenieros Agrónomos de Albacete
BEGIN:VTIMEZONE
TZID:UTC
BEGIN:STANDARD
TZOFFSETFROM:+0000
TZOFFSETTO:+0000
TZNAME:UTC
DTSTART:20250101T000000
END:STANDARD
END:VTIMEZONE
BEGIN:VEVENT
DTSTART;TZID=UTC:20251203T100000
DTEND;TZID=UTC:20251203T110000
DTSTAMP:20260421T101051
CREATED:20251128T185532Z
LAST-MODIFIED:20251128T185536Z
UID:39451-1764756000-1764759600@www.agronomosalbacete.org
SUMMARY:Presentación del Observatorio de la Mujer Ingeniera en la Industria Española
DESCRIPTION:📆 3 de diciembre de 2025🕔 10:00 – 11:00📌Online (YT) y presencial (C/ General Arrando\, 38 Madrid) \nLeer+
URL:https://www.agronomosalbacete.org/event/presentacion-del-observatorio-de-la-mujer-ingeniera-en-la-industria-espanola/
CATEGORIES:JORNADAS
ATTACH;FMTTYPE=image/png:https://www.agronomosalbacete.org/wp-content/uploads/2025/11/IIES-MUJER.png
END:VEVENT
END:VCALENDAR