BEGIN:VCALENDAR
VERSION:2.0
PRODID:-//Colegio Oficial de Ingenieros Agrónomos de Albacete - ECPv5.8.1//NONSGML v1.0//EN
CALSCALE:GREGORIAN
METHOD:PUBLISH
X-WR-CALNAME:Colegio Oficial de Ingenieros Agrónomos de Albacete
X-ORIGINAL-URL:https://www.agronomosalbacete.org
X-WR-CALDESC:Eventos para Colegio Oficial de Ingenieros Agrónomos de Albacete
BEGIN:VTIMEZONE
TZID:UTC
BEGIN:STANDARD
TZOFFSETFROM:+0000
TZOFFSETTO:+0000
TZNAME:UTC
DTSTART:20250101T000000
END:STANDARD
END:VTIMEZONE
BEGIN:VEVENT
DTSTART;TZID=UTC:20251023T170000
DTEND;TZID=UTC:20251023T183000
DTSTAMP:20260422T204745
CREATED:20251014T211458Z
LAST-MODIFIED:20251014T211503Z
UID:38966-1761238800-1761244200@www.agronomosalbacete.org
SUMMARY:Jornada telemática: NUEVAS OBLIGACIONES DE FACTURACIÓN ELECTRÓNICA Y SISTEMA VERI*FACTU
DESCRIPTION:  23 de octubre de 2025 \n  17:00 – 18:30  h \n Online por videoconferencia \n(Solo se enviará el enlace de acceso a los inscritos previamente) \n+ Info
URL:https://www.agronomosalbacete.org/event/jornada-telematica-nuevas-obligaciones-de-facturacion-electronica-y-sistema-verifactu/
CATEGORIES:JORNADAS
END:VEVENT
END:VCALENDAR