BEGIN:VCALENDAR
VERSION:2.0
PRODID:-//Colegio Oficial de Ingenieros Agrónomos de Albacete - ECPv5.8.1//NONSGML v1.0//EN
CALSCALE:GREGORIAN
METHOD:PUBLISH
X-WR-CALNAME:Colegio Oficial de Ingenieros Agrónomos de Albacete
X-ORIGINAL-URL:https://www.agronomosalbacete.org
X-WR-CALDESC:Eventos para Colegio Oficial de Ingenieros Agrónomos de Albacete
BEGIN:VTIMEZONE
TZID:UTC
BEGIN:STANDARD
TZOFFSETFROM:+0000
TZOFFSETTO:+0000
TZNAME:UTC
DTSTART:20260101T000000
END:STANDARD
END:VTIMEZONE
BEGIN:VEVENT
DTSTART;TZID=UTC:20260428T093000
DTEND;TZID=UTC:20260428T153000
DTSTAMP:20260424T140235
CREATED:20260424T103512Z
LAST-MODIFIED:20260424T103512Z
UID:40569-1777368600-1777390200@www.agronomosalbacete.org
SUMMARY:Jornada presencial “El asesor agrario como eje del AKIS en España y Europa”
DESCRIPTION:📆 28 de abril del 2026 \n🕔 9:30 a 15:30 h \n📌La Vega Innova. MAPA \nLeer+
URL:https://www.agronomosalbacete.org/event/jornada-presencial-el-asesor-agrario-como-eje-del-akis-en-espana-y-europa/
CATEGORIES:OTROS
ATTACH;FMTTYPE=image/png:https://www.agronomosalbacete.org/wp-content/uploads/2026/04/akis-950-x-630-px-1.png
END:VEVENT
END:VCALENDAR