BEGIN:VCALENDAR
VERSION:2.0
PRODID:-//Colegio Oficial de Ingenieros Agrónomos de Albacete - ECPv5.8.1//NONSGML v1.0//EN
CALSCALE:GREGORIAN
METHOD:PUBLISH
X-WR-CALNAME:Colegio Oficial de Ingenieros Agrónomos de Albacete
X-ORIGINAL-URL:https://www.agronomosalbacete.org
X-WR-CALDESC:Eventos para Colegio Oficial de Ingenieros Agrónomos de Albacete
BEGIN:VTIMEZONE
TZID:UTC
BEGIN:STANDARD
TZOFFSETFROM:+0000
TZOFFSETTO:+0000
TZNAME:UTC
DTSTART:20260101T000000
END:STANDARD
END:VTIMEZONE
BEGIN:VEVENT
DTSTART;TZID=UTC:20260505T130000
DTEND;TZID=UTC:20260505T143000
DTSTAMP:20260424T154353
CREATED:20260424T102426Z
LAST-MODIFIED:20260424T102431Z
UID:40538-1777986000-1777991400@www.agronomosalbacete.org
SUMMARY:Jornada online gratuita | Presencia digital profesional para el ingeniero agrónomo de hoy
DESCRIPTION:📆 5 de mayo de 2026 \n🕔 13:00 – 14:30 h \n📌Formación Agrónomos \nLeer+
URL:https://www.agronomosalbacete.org/event/jornada-online-gratuita-presencia-digital-profesional-para-el-ingeniero-agronomo-de-hoy/
CATEGORIES:OTROS
ATTACH;FMTTYPE=image/png:https://www.agronomosalbacete.org/wp-content/uploads/2026/04/2026-05-05d.png
END:VEVENT
END:VCALENDAR