BEGIN:VCALENDAR
VERSION:2.0
PRODID:-//Colegio Oficial de Ingenieros Agrónomos de Albacete - ECPv5.8.1//NONSGML v1.0//EN
CALSCALE:GREGORIAN
METHOD:PUBLISH
X-WR-CALNAME:Colegio Oficial de Ingenieros Agrónomos de Albacete
X-ORIGINAL-URL:https://www.agronomosalbacete.org
X-WR-CALDESC:Eventos para Colegio Oficial de Ingenieros Agrónomos de Albacete
BEGIN:VTIMEZONE
TZID:UTC
BEGIN:STANDARD
TZOFFSETFROM:+0000
TZOFFSETTO:+0000
TZNAME:UTC
DTSTART:20240101T000000
END:STANDARD
END:VTIMEZONE
BEGIN:VEVENT
DTSTART;TZID=UTC:20241010T113000
DTEND;TZID=UTC:20241014T143000
DTSTAMP:20260425T133339
CREATED:20241006T074200Z
LAST-MODIFIED:20241006T074254Z
UID:34788-1728559800-1728916200@www.agronomosalbacete.org
SUMMARY:Jornada: Frutas y hortalizas 5.0: Del campo a la mes
DESCRIPTION:📆  Jueves 10 de octubre de 2024 🕔  11:00 h📌 Fruit next 5. Pabellon 5- Fruit Attraction – IFEMA Madrid \n+Info
URL:https://www.agronomosalbacete.org/event/jornada-frutas-y-hortalizas-5-0-del-campo-a-la-mes/
CATEGORIES:JORNADAS
ATTACH;FMTTYPE=image/png:https://www.agronomosalbacete.org/wp-content/uploads/2024/10/synptnc.png
END:VEVENT
END:VCALENDAR