BEGIN:VCALENDAR
VERSION:2.0
PRODID:-//Colegio Oficial de Ingenieros Agrónomos de Albacete - ECPv5.8.1//NONSGML v1.0//EN
CALSCALE:GREGORIAN
METHOD:PUBLISH
X-WR-CALNAME:Colegio Oficial de Ingenieros Agrónomos de Albacete
X-ORIGINAL-URL:https://www.agronomosalbacete.org
X-WR-CALDESC:Eventos para Colegio Oficial de Ingenieros Agrónomos de Albacete
BEGIN:VTIMEZONE
TZID:UTC
BEGIN:STANDARD
TZOFFSETFROM:+0000
TZOFFSETTO:+0000
TZNAME:UTC
DTSTART:20210101T000000
END:STANDARD
END:VTIMEZONE
BEGIN:VEVENT
DTSTART;TZID=UTC:20211005T080000
DTEND;TZID=UTC:20211007T170000
DTSTAMP:20260421T132959
CREATED:20210917T100713Z
LAST-MODIFIED:20210917T100713Z
UID:21753-1633420800-1633626000@www.agronomosalbacete.org
SUMMARY:Fruit Attraction 2021
DESCRIPTION:
URL:https://www.agronomosalbacete.org/event/fruit-attraction-2021/
CATEGORIES:FERIAS
END:VEVENT
END:VCALENDAR