BEGIN:VCALENDAR
VERSION:2.0
PRODID:-//Colegio Oficial de Ingenieros Agrónomos de Albacete - ECPv5.8.1//NONSGML v1.0//EN
CALSCALE:GREGORIAN
METHOD:PUBLISH
X-WR-CALNAME:Colegio Oficial de Ingenieros Agrónomos de Albacete
X-ORIGINAL-URL:https://www.agronomosalbacete.org
X-WR-CALDESC:Eventos para Colegio Oficial de Ingenieros Agrónomos de Albacete
BEGIN:VTIMEZONE
TZID:UTC
BEGIN:STANDARD
TZOFFSETFROM:+0000
TZOFFSETTO:+0000
TZNAME:UTC
DTSTART:20270101T000000
END:STANDARD
END:VTIMEZONE
BEGIN:VEVENT
DTSTART;VALUE=DATE:20270501
DTEND;VALUE=DATE:20270502
DTSTAMP:20260419T144608
CREATED:20221122T182045Z
LAST-MODIFIED:20221122T182045Z
UID:37382-1809129600-1809215999@www.agronomosalbacete.org
SUMMARY:FIESTA DEL TRABAJO
DESCRIPTION:
URL:https://www.agronomosalbacete.org/event/fiesta-del-trabajo/2027-05-01/
CATEGORIES:DIA FESTIVO
END:VEVENT
END:VCALENDAR