BEGIN:VCALENDAR
VERSION:2.0
PRODID:-//Colegio Oficial de Ingenieros Agrónomos de Albacete - ECPv5.8.1//NONSGML v1.0//EN
CALSCALE:GREGORIAN
METHOD:PUBLISH
X-WR-CALNAME:Colegio Oficial de Ingenieros Agrónomos de Albacete
X-ORIGINAL-URL:https://www.agronomosalbacete.org
X-WR-CALDESC:Eventos para Colegio Oficial de Ingenieros Agrónomos de Albacete
BEGIN:VTIMEZONE
TZID:UTC
BEGIN:STANDARD
TZOFFSETFROM:+0000
TZOFFSETTO:+0000
TZNAME:UTC
DTSTART:20230101T000000
END:STANDARD
END:VTIMEZONE
BEGIN:VEVENT
DTSTART;TZID=UTC:20230504T080000
DTEND;TZID=UTC:20230507T170000
DTSTAMP:20260421T085730
CREATED:20230421T095751Z
LAST-MODIFIED:20230421T095755Z
UID:29694-1683187200-1683478800@www.agronomosalbacete.org
SUMMARY:Feria Regional de Alimentación de CLM_FERACAM
DESCRIPTION: 📆 4-7 de mayo de 2023 \n📌 Tarancón (Cuenca) \nMas info.
URL:https://www.agronomosalbacete.org/event/feria-regional-de-alimentacion-de-clm_feracam/
CATEGORIES:FERIAS
ATTACH;FMTTYPE=image/jpeg:https://www.agronomosalbacete.org/wp-content/uploads/2023/04/feracam.jpg
END:VEVENT
END:VCALENDAR