BEGIN:VCALENDAR
VERSION:2.0
PRODID:-//Colegio Oficial de Ingenieros Agrónomos de Albacete - ECPv5.8.1//NONSGML v1.0//EN
CALSCALE:GREGORIAN
METHOD:PUBLISH
X-WR-CALNAME:Colegio Oficial de Ingenieros Agrónomos de Albacete
X-ORIGINAL-URL:https://www.agronomosalbacete.org
X-WR-CALDESC:Eventos para Colegio Oficial de Ingenieros Agrónomos de Albacete
BEGIN:VTIMEZONE
TZID:UTC
BEGIN:STANDARD
TZOFFSETFROM:+0000
TZOFFSETTO:+0000
TZNAME:UTC
DTSTART:20240101T000000
END:STANDARD
END:VTIMEZONE
BEGIN:VEVENT
DTSTART;TZID=UTC:20241211T080000
DTEND;TZID=UTC:20241211T170000
DTSTAMP:20260425T102209
CREATED:20241129T105021Z
LAST-MODIFIED:20241129T105535Z
UID:35417-1733904000-1733936400@www.agronomosalbacete.org
SUMMARY:EU-FarmBook. El lugar para almacenar tus materiales con enfoque práctico
DESCRIPTION:📆 12 de diciembre de 2024 \n🕔  10:00 – 12:00 \n📌 online \n  \nMás info.
URL:https://www.agronomosalbacete.org/event/eu-farmbook-el-lugar-para-almacenar-tus-materiales-con-enfoque-practico/
CATEGORIES:JORNADAS
ATTACH;FMTTYPE=image/png:https://www.agronomosalbacete.org/wp-content/uploads/2024/11/2024-12-12.png
END:VEVENT
END:VCALENDAR