BEGIN:VCALENDAR
VERSION:2.0
PRODID:-//Colegio Oficial de Ingenieros Agrónomos de Albacete - ECPv5.8.1//NONSGML v1.0//EN
CALSCALE:GREGORIAN
METHOD:PUBLISH
X-WR-CALNAME:Colegio Oficial de Ingenieros Agrónomos de Albacete
X-ORIGINAL-URL:https://www.agronomosalbacete.org
X-WR-CALDESC:Eventos para Colegio Oficial de Ingenieros Agrónomos de Albacete
BEGIN:VTIMEZONE
TZID:UTC
BEGIN:STANDARD
TZOFFSETFROM:+0000
TZOFFSETTO:+0000
TZNAME:UTC
DTSTART:20250101T000000
END:STANDARD
END:VTIMEZONE
BEGIN:VEVENT
DTSTART;VALUE=DATE:20251101
DTEND;VALUE=DATE:20251102
DTSTAMP:20260421T083508
CREATED:20230718T071820Z
LAST-MODIFIED:20230718T071820Z
UID:31568-1761955200-1762041599@www.agronomosalbacete.org
SUMMARY:DÍA DE TODOS LOS SANTOS
DESCRIPTION:
URL:https://www.agronomosalbacete.org/event/dia-de-todos-los-santos/2025-11-01/
CATEGORIES:DIA FESTIVO
END:VEVENT
END:VCALENDAR