BEGIN:VCALENDAR
VERSION:2.0
PRODID:-//Colegio Oficial de Ingenieros Agrónomos de Albacete - ECPv5.8.1//NONSGML v1.0//EN
CALSCALE:GREGORIAN
METHOD:PUBLISH
X-WR-CALNAME:Colegio Oficial de Ingenieros Agrónomos de Albacete
X-ORIGINAL-URL:https://www.agronomosalbacete.org
X-WR-CALDESC:Eventos para Colegio Oficial de Ingenieros Agrónomos de Albacete
BEGIN:VTIMEZONE
TZID:UTC
BEGIN:STANDARD
TZOFFSETFROM:+0000
TZOFFSETTO:+0000
TZNAME:UTC
DTSTART:20270101T000000
END:STANDARD
END:VTIMEZONE
BEGIN:VEVENT
DTSTART;VALUE=DATE:20270531
DTEND;VALUE=DATE:20270601
DTSTAMP:20260419T150209
CREATED:20210706T075500Z
LAST-MODIFIED:20210706T075500Z
UID:37829-1811721600-1811807999@www.agronomosalbacete.org
SUMMARY:DÍA DE LA REGIÓN DE CASTILLA-LA MANCHA
DESCRIPTION:
URL:https://www.agronomosalbacete.org/event/dia-de-la-region-de-castilla-la-mancha/2027-05-31/
CATEGORIES:DIA FESTIVO
END:VEVENT
END:VCALENDAR