BEGIN:VCALENDAR
VERSION:2.0
PRODID:-//Colegio Oficial de Ingenieros Agrónomos de Albacete - ECPv5.8.1//NONSGML v1.0//EN
CALSCALE:GREGORIAN
METHOD:PUBLISH
X-WR-CALNAME:Colegio Oficial de Ingenieros Agrónomos de Albacete
X-ORIGINAL-URL:https://www.agronomosalbacete.org
X-WR-CALDESC:Eventos para Colegio Oficial de Ingenieros Agrónomos de Albacete
BEGIN:VTIMEZONE
TZID:UTC
BEGIN:STANDARD
TZOFFSETFROM:+0000
TZOFFSETTO:+0000
TZNAME:UTC
DTSTART:20260101T000000
END:STANDARD
END:VTIMEZONE
BEGIN:VEVENT
DTSTART;TZID=UTC:20260424T080000
DTEND;TZID=UTC:20260731T170000
DTSTAMP:20260424T135948
CREATED:20260424T104108Z
LAST-MODIFIED:20260424T104108Z
UID:40576-1777017600-1785517200@www.agronomosalbacete.org
SUMMARY:Curso ONLINE Fertilización en Agricultura de Conservación y de Precisiónen el Marco de la Politica Agraria Común
DESCRIPTION:DESTINATARIOS\nIngenieras e ingenieros agrónomos\, máster en ingeniería agronómica\, ingenieras e ingenieros técnicos agrícolas\, grado en ingeniería agroalimentaria y del medio rural\, así como másteres y grados relacionados con la ingeniería agronómica y cualquier profesional en el ámbito de la ingeniería. Alumnas y alumnos de últimos cursos de Ingeniería agronómica. \nONLINE ABIERTO
URL:https://www.agronomosalbacete.org/event/curso-online-fertilizacion-en-agricultura-de-conservacion-y-de-precisionen-el-marco-de-la-politica-agraria-comun/
CATEGORIES:OTROS
ATTACH;FMTTYPE=image/jpeg:https://www.agronomosalbacete.org/wp-content/uploads/2026/04/BANNER_INICAL_FERTILIZACION_AGRICULTURA_CONSERVACION.jpg
END:VEVENT
END:VCALENDAR