BEGIN:VCALENDAR
VERSION:2.0
PRODID:-//Colegio Oficial de Ingenieros Agrónomos de Albacete - ECPv5.8.1//NONSGML v1.0//EN
CALSCALE:GREGORIAN
METHOD:PUBLISH
X-WR-CALNAME:Colegio Oficial de Ingenieros Agrónomos de Albacete
X-ORIGINAL-URL:https://www.agronomosalbacete.org
X-WR-CALDESC:Eventos para Colegio Oficial de Ingenieros Agrónomos de Albacete
BEGIN:VTIMEZONE
TZID:UTC
BEGIN:STANDARD
TZOFFSETFROM:+0000
TZOFFSETTO:+0000
TZNAME:UTC
DTSTART:20210101T000000
END:STANDARD
END:VTIMEZONE
BEGIN:VEVENT
DTSTART;TZID=UTC:20211001T080000
DTEND;TZID=UTC:20211001T170000
DTSTAMP:20260421T115330
CREATED:20210929T155748Z
LAST-MODIFIED:20210929T155748Z
UID:21962-1633075200-1633107600@www.agronomosalbacete.org
SUMMARY:CURSO ONLINE DIRECCIÓN FACULTATIVA PARA COLEGIADOS- 2ª EDICIÓN.
DESCRIPTION: 
URL:https://www.agronomosalbacete.org/event/curso-online-direccion-facultativa-para-colegiados-2a-edicion/2021-10-01/
CATEGORIES:CURSOS
END:VEVENT
END:VCALENDAR