BEGIN:VCALENDAR
VERSION:2.0
PRODID:-//Colegio Oficial de Ingenieros Agrónomos de Albacete - ECPv5.8.1//NONSGML v1.0//EN
CALSCALE:GREGORIAN
METHOD:PUBLISH
X-WR-CALNAME:Colegio Oficial de Ingenieros Agrónomos de Albacete
X-ORIGINAL-URL:https://www.agronomosalbacete.org
X-WR-CALDESC:Eventos para Colegio Oficial de Ingenieros Agrónomos de Albacete
BEGIN:VTIMEZONE
TZID:UTC
BEGIN:STANDARD
TZOFFSETFROM:+0000
TZOFFSETTO:+0000
TZNAME:UTC
DTSTART:20250101T000000
END:STANDARD
END:VTIMEZONE
BEGIN:VEVENT
DTSTART;TZID=UTC:20251020T080000
DTEND;TZID=UTC:20251103T170000
DTSTAMP:20260423T014330
CREATED:20250902T103819Z
LAST-MODIFIED:20250902T103824Z
UID:38504-1760947200-1762189200@www.agronomosalbacete.org
SUMMARY:3ª Edición IBER: Modelización Hidráulica para Clasificación de Balsas
DESCRIPTION:Del 20 de octubre al 3 de noviembre de 2025 \n Libre \n Online \n+Info
URL:https://www.agronomosalbacete.org/event/3a-edicion-iber-modelizacion-hidraulica-para-clasificacion-de-balsas/
CATEGORIES:CURSOS
ATTACH;FMTTYPE=image/jpeg:https://www.agronomosalbacete.org/wp-content/uploads/2025/09/unnamed-2.jpg
END:VEVENT
END:VCALENDAR